Workbook

Sheet 报价汇总表
A1: 报价汇总表
A2: 序号 | B2: 项目名称 | C2: 价格 | D2: 备注
A3: 1 | B3: 装修部分 | C3: =分项报价!G13 -> 0
A4: 2 | B4: 设备部分 | C4: =分项报价!G26 -> 0
A5: 3 | B5: 通风部分 | C5: =分项报价!G39 -> 0
A6: 4 | B6: 给排水部分 | C6: =分项报价!G42 -> 0
A7: 5 | B7: 配电部分 | C7: =分项报价!G63 -> 0
A8: 6 | B8: 实验室家具部分 | C8: =分项报价!G71 -> 0
A9: 7 | B9: 消防部分 | C9: =分项报价!G74 -> 0
A10: 8 | B10: 税金（9%） | C10: =0.09*(SUM(C3:C9)) -> 0
A11: 9 | B11: 总价 | C11: =SUM(C3:C10) -> 0

Sheet 分项报价
A1: 报价清单
A2: 序号 | B2: 子目名称及规格型号 | D2: 工程量 | F2: 综合单价 | G2: 合计 | H2: 备注
D3: 单位 | E3: 数量 | F3: （元） | G3: （元）
A4: 一、 | B4: 装修部分 | G4: =E4*F4 -> 0
A5: 1 | B5: 墙板 | C5: 50mm厚机制岩棉净化彩钢板 | D5: m2 | E5: 270.48 | G5: =E5*F5 -> 0
A6: 2 | B6: 顶板 | C6: 铝扣板带保温 | D6: m2 | E6: 98.2975 | G6: =E6*F6 -> 0
A7: 3 | B7: 铝型材 | D7: m2 | E7: 270.48 | G7: =E7*F7 -> 0
A8: 4 | B8: 地面 | C8: 2mm厚同质透心PVC卷材 | D8: m2 | E8: 98.2975 | G8: =E8*F8 -> 0
A9: 5 | B9: 钢质门 | C9: 1200×2200mm，带视窗，含门框锁具五金 | D9: 樘 | E9: 3 | G9: =E9*F9 -> 0
A10: 6 | B10: 钢质门 | C10: 900×2200mm，带视窗，含门框锁具五金 | D10: 樘 | E10: 4 | G10: =E10*F10 -> 0
A11: 7 | B11: 结构加固 | C11: 镀锌方钢 | D11: 项 | E11: 1 | G11: =E11*F11 -> 0
A12: 8 | B12: 拆除、垃圾清运 | C12: 拆除现有轻质隔墙、格栅吊顶及PVC卷材地面 | D12: m2 | E12: 98.2975 | G12: =E12*F12 -> 0
A13: 9 | B13: 小计 | G13: =SUM(G5:G12)*1.2 -> 0
A14: 二、 | B14: 设备部分 | G14: =E14*F14 -> 0
A15: 1 | B15: 新风直膨机组 | C15: 风量2500m³/h，制冷量28kw | D15: 套 | E15: 1 | G15: =E15*F15 -> 0 | H15: 海信/维克/博特
A16: 2 | B16: 四面出风嵌入式 | C16: 制冷量3.6kw | D16: 套 | E16: 2 | G16: =E16*F16 -> 0 | H16: 海信/维克/博特
A17: 3 | B17: 四面出风嵌入式 | C17: 制冷量4.5kw | D17: 套 | E17: 2 | G17: =E17*F17 -> 0 | H17: 海信/维克/海尔
A18: 4 | B18: 排风机PF-1 | C18: 风量2500m³/h，风压250pa | D18: 台 | E18: 1 | G18: =E18*F18 -> 0
A19: 5 | B19: 液氮库事故排风机PF-2 | C19: 风量550m³/h，风压250pa | D19: 台 | E19: 1 | G19: =E19*F19 -> 0
A20: 6 | B20: 小多联室外机 | C20: 16kw | D20: 台 | E20: 1 | G20: =E20*F20 -> 0 | H20: 海信/维克/海尔
A21: 7 | B21: 全年制冷空调 | C21: 3匹立式空调 | D21: 套 | E21: 1 | G21: =E21*F21 -> 0 | H21: 海信/维克/海尔
A22: 8 | B22: 线控器 | D22: 个 | E22: =E16+E17+E15 -> 5 | G22: =E22*F22 -> 0 | H22: 海信/维克/海尔
A23: 9 | B23: 氟系统 | C23: 铜管、冷凝水管、保温等 | D23: 项 | E23: 1 | G23: =E23*F23 -> 0
A24: 10 | B24: 基础 | C24: 钢结构 | D24: 项 | E24: 1 | G24: =E24*F24 -> 0
A25: 11 | B25: 安装辅料 | D25: 项 | E25: 1 | G25: =E25*F25 -> 0
A26: 12 | B26: 小计 | G26: =SUM(G15:G25) -> 0
A27: 三、 | B27: 通风部分 | G27: =E27*F27 -> 0
A28: 1 | B28: 通风管道 | C28: 0.75mm镀锌，角铁法兰 | D28: m2 | E28: 174 | G28: =E28*F28 -> 0
A29: 2 | B29: 橡塑保温 | C29: B1级 | D29: m³ | E29: 5.22 | G29: =E29*F29 -> 0
A30: 3 | B30: 单层百叶回风口 | C30: 300*300mm | D30: 个 | E30: 7 | G30: =E30*F30 -> 0
A31: 4 | B31: 双层百叶风口 | C31: 300*300mm | D31: 个 | E31: 6 | G31: =E31*F31 -> 0
A32: 5 | B32: 手动对开多叶调节阀 | C32: 300*300mm | D32: 个 | E32: 13 | G32: =E32*F32 -> 0
A33: 6 | B33: 手动对开多叶调节阀 | C33: 400*320mm | D33: 个 | E33: 3 | G33: =E33*F33 -> 0
A34: 7 | B34: 70℃防火阀 | C34: 400*320mm | D34: 个 | E34: 3 | G34: =E34*F34 -> 0
A35: 8 | B35: 止回阀 | C35: 400*320mm | D35: 个 | E35: 3 | G35: =E35*F35 -> 0
A36: 9 | B36: 静压箱 | C36: 500×500 | D36: 个 | E36: 1 | G36: =E36*F36 -> 0
A37: 10 | B37: 软连接 | D37: 个 | E37: 13 | G37: =E37*F37 -> 0
A38: 11 | B38: 安装辅料 | D38: 项 | E38: 1 | G38: =E38*F38 -> 0
A39: 12 | B39: 小计 | G39: =SUM(G28:G38) -> 0
A40: 四、 | B40: 给排水部分 | G40: =E40*F40 -> 0
A41: 1 | B41: 给排水系统 | C41: 排水管材质U-PVC,给水管材质PPR | D41: 项 | E41: 1 | G41: =E41*F41 -> 0
A42: 2 | B42: 小计 | G42: =SUM(G41:G41) -> 0
A43: 五、 | B43: 配电部分 | G43: =E43*F43 -> 0
A44: 1 | B44: 总配电箱 | C44: 灯具开关、插座、设备 | D44: 台 | E44: 1 | G44: =E44*F44 -> 0
A45: 2 | B45: 自控系统 | C45: 新排风控制系统，含PLC控制器、传感器、执行器等 | D45: 台 | E45: 1 | G45: =E45*F45 -> 0
A46: 3 | B46: 洁净灯平板灯 | C46: 1200×300mm | D46: 台 | E46: 4 | G46: =E46*F46 -> 0
A47: 4 | B47: 洁净灯平板灯 | C47: 900×300mm | D47: 台 | E47: 7 | G47: =E47*F47 -> 0
A48: 5 | B48: 洁净灯平板灯 | C48: 600×300mm | D48: 台 | E48: 4 | G48: =E48*F48 -> 0
A49: 6 | B49: 紫外线灯 | C49: 1200mm | D49: 台 | E49: 5 | G49: =E49*F49 -> 0
A50: 7 | B50: 单联开关 | D50: 个 | E50: 7 | G50: =E50*F50 -> 0
A51: 8 | B51: 延时开关 | D51: 个 | E51: 3 | G51: =E51*F51 -> 0
A52: 9 | B52: 五孔插座 | C52: 220V 10A | D52: 个 | E52: 41 | G52: =E52*F52 -> 0
A53: 10 | B53: 照明、开关电线 | C53: BV2.5mm2 | D53: m | E53: 279 | G53: =E53*F53 -> 0
A54: 11 | B54: 插座电线 | C54: BV4.0mm2 | D54: m | E54: 321.6 | G54: =E54*F54 -> 0
A55: 12 | B55: 电缆 | C55: YJV-3*4mm2 | D55: m | E55: 50 | G55: =E55*F55 -> 0
A56: 13 | B56: 电缆 | C56: YJV-4*4mm2 | D56: m | E56: 40 | G56: =E56*F56 -> 0
A57: 14 | B57: 电缆 | C57: YJV-5*4mm2 | D57: m | E57: 40 | G57: =E57*F57 -> 0
A58: 15 | B58: 电缆 | C58: YJV-5*10mm2 | D58: m | E58: 35 | G58: =E58*F58 -> 0
A59: 16 | B59: 线管 | C59: JDG32 | D59: m | E59: 200 | G59: =E59*F59 -> 0
A60: 17 | B60: 桥架 | C60: 200×100 | D60: m | E60: 60 | G60: =E60*F60 -> 0
A61: 18 | B61: 弱电系统 | C61: 含网络系统、监控系统、安防系统、门禁等 | D61: 项 | E61: 1 | G61: =E61*F61 -> 0
A62: 19 | B62: 安装辅料 | C62: 含五金件等 | D62: 项 | E62: 1 | G62: =E62*F62 -> 0
A63: 20 | B63: 小计 | G63: =SUM(G44:G62) -> 0
A64: 六、 | B64: 实验室家具部分 | G64: =E64*F64 -> 0
A65: 1 | B65: 钢制实验台 | C65: L*750*800 | D65: 延米 | E65: 17 | G65: =E65*F65 -> 0
A66: 2 | B66: 三口鹅颈水龙头 | C66: 开关旋钮：高密度PP/ABS 出水口PVC材料 阀门：为精密陶瓷阀芯 鹅颈管：可360°旋转 | D66: 只 | E66: 3 | G66: =E66*F66 -> 0
A67: 3 | B67: 水槽 | C67: 900*750*310 | D67: 只 | E67: 3 | G67: =E67*F67 -> 0
A68: 4 | B68: 滴水架 | C68: 550*400 | D68: 只 | E68: 3 | G68: =E68*F68 -> 0
A69: 5 | B69: 洗眼器 | D69: 只 | E69: 3 | G69: =E69*F69 -> 0
A70: 6 | B70: 传递窗 | C70: 600*600*600 | D70: 台 | E70: 1 | G70: =E70*F70 -> 0
A71: 7 | B71: 小计 | G71: =SUM(G65:G70) -> 0
A72: 七、消防系统
A73: 1 | B73: 消防系统 | C73: 含应急照明、疏散指示、烟感探头、喷淋头、水位检测仪等 | D73: 项 | E73: 1 | G73: =E73*F73 -> 0
A74: 2 | B74: 小计 | G74: =SUM(G73:G73) -> 0
A75: 未税总计 | G75: =G13+G26+G39+G42+G63+G71+G74 -> 0
